BEGIN:VCALENDAR
VERSION:2.0
PRODID:-//hacksw/handcal//NONSGML v1.0//EN
CALSCALE:GREGORIAN
BEGIN:VEVENT
LOCATION:89 Guest Street\, Boston\, MA 02135
DESCRIPTION:
DTSTART:20260925T234500Z
DTEND:20260926T014500Z
SUMMARY:Tinlicker
URL;VALUE=URI:https://www.axs.com/events/1408960/tinlicker-tickets
DTSTAMP:20260423T120204Z
UID:69ea0a3c892ad
END:VEVENT
END:VCALENDAR
